	


BEGIN:VCALENDAR
VERSION:2.0
PRODID:-//Asquith Magpies | Junior Rugby League | Home of the Mighty Magpies - ECPv6.15.19//NONSGML v1.0//EN
CALSCALE:GREGORIAN
METHOD:PUBLISH
X-WR-CALNAME:Asquith Magpies | Junior Rugby League | Home of the Mighty Magpies
X-ORIGINAL-URL:https://www.asquithmagpies.com.au
X-WR-CALDESC:Events for Asquith Magpies | Junior Rugby League | Home of the Mighty Magpies
REFRESH-INTERVAL;VALUE=DURATION:PT1H
X-Robots-Tag:noindex
X-PUBLISHED-TTL:PT1H
BEGIN:VTIMEZONE
TZID:Australia/Melbourne
BEGIN:STANDARD
TZOFFSETFROM:+1100
TZOFFSETTO:+1000
TZNAME:AEST
DTSTART:20200404T160000
END:STANDARD
BEGIN:DAYLIGHT
TZOFFSETFROM:+1000
TZOFFSETTO:+1100
TZNAME:AEDT
DTSTART:20201003T160000
END:DAYLIGHT
BEGIN:STANDARD
TZOFFSETFROM:+1100
TZOFFSETTO:+1000
TZNAME:AEST
DTSTART:20210403T160000
END:STANDARD
BEGIN:DAYLIGHT
TZOFFSETFROM:+1000
TZOFFSETTO:+1100
TZNAME:AEDT
DTSTART:20211002T160000
END:DAYLIGHT
BEGIN:STANDARD
TZOFFSETFROM:+1100
TZOFFSETTO:+1000
TZNAME:AEST
DTSTART:20220402T160000
END:STANDARD
BEGIN:DAYLIGHT
TZOFFSETFROM:+1000
TZOFFSETTO:+1100
TZNAME:AEDT
DTSTART:20221001T160000
END:DAYLIGHT
END:VTIMEZONE
BEGIN:VTIMEZONE
TZID:UTC
BEGIN:STANDARD
TZOFFSETFROM:+0000
TZOFFSETTO:+0000
TZNAME:UTC
DTSTART:20200101T000000
END:STANDARD
END:VTIMEZONE
BEGIN:VEVENT
DTSTART;TZID=Australia/Melbourne:20210223T170000
DTEND;TZID=Australia/Melbourne:20210223T180000
DTSTAMP:20260425T003629
CREATED:20210212T053912Z
LAST-MODIFIED:20210212T054629Z
UID:2167-1614099600-1614103200@www.asquithmagpies.com.au
SUMMARY:Ages 4 to 9 Come and Try
DESCRIPTION:Storey Park at 5:00pm
URL:https://www.asquithmagpies.com.au/event/ages-4-to-9-come-and-try/
LOCATION:Storey Park\, 7 Lodge St\, Hornsby\, NSW\, 2077\, Australia
END:VEVENT
BEGIN:VEVENT
DTSTART;TZID=UTC:20210225T174500
DTEND;TZID=UTC:20210225T184500
DTSTAMP:20260425T003629
CREATED:20210211T125508Z
LAST-MODIFIED:20210212T054444Z
UID:2092-1614275100-1614278700@www.asquithmagpies.com.au
SUMMARY:Come Try Day 10s and up
DESCRIPTION:Storey Park 5:45
URL:https://www.asquithmagpies.com.au/event/come-try-day/
LOCATION:Storey Park\, 7 Lodge St\, Hornsby\, NSW\, 2077\, Australia
END:VEVENT
BEGIN:VEVENT
DTSTART;TZID=Australia/Melbourne:20210228T100000
DTEND;TZID=Australia/Melbourne:20210228T150000
DTSTAMP:20260425T003629
CREATED:20210225T101305Z
LAST-MODIFIED:20210225T101305Z
UID:2855-1614506400-1614524400@www.asquithmagpies.com.au
SUMMARY:Presentation Day
DESCRIPTION:Storey Park \nU6s and U7s – 10:30 to 11:30 \nU8s and U9s – 11:30 to 12:30 \nU10s and U12s – 12:30 to 1:30 \nU14s and Girls – 1:30 to 2:30
URL:https://www.asquithmagpies.com.au/event/presentation-day/
LOCATION:Storey Park\, 7 Lodge St\, Hornsby\, NSW\, 2077\, Australia
END:VEVENT
END:VCALENDAR