	


BEGIN:VCALENDAR
VERSION:2.0
PRODID:-//Asquith Magpies | Junior Rugby League | Home of the Mighty Magpies - ECPv6.15.19//NONSGML v1.0//EN
CALSCALE:GREGORIAN
METHOD:PUBLISH
X-WR-CALNAME:Asquith Magpies | Junior Rugby League | Home of the Mighty Magpies
X-ORIGINAL-URL:https://www.asquithmagpies.com.au
X-WR-CALDESC:Events for Asquith Magpies | Junior Rugby League | Home of the Mighty Magpies
REFRESH-INTERVAL;VALUE=DURATION:PT1H
X-Robots-Tag:noindex
X-PUBLISHED-TTL:PT1H
BEGIN:VTIMEZONE
TZID:UTC
BEGIN:STANDARD
TZOFFSETFROM:+0000
TZOFFSETTO:+0000
TZNAME:UTC
DTSTART:20210101T000000
END:STANDARD
END:VTIMEZONE
BEGIN:VEVENT
DTSTART;TZID=UTC:20220302T170000
DTEND;TZID=UTC:20220302T180000
DTSTAMP:20260425T055303
CREATED:20220223T091115Z
LAST-MODIFIED:20220223T091115Z
UID:5845-1646240400-1646244000@www.asquithmagpies.com.au
SUMMARY:Come & Try Day Wednesday March 2\, 2022
DESCRIPTION:Come & Try day \nWelcome to the Asquith Magpies 2022 Come Try Day! \nCome and meet North Sydney NSW Cup & Harvey Norman players. \nTackle & Girls League Tag \nLocation: Storey Park \nDate: Wednesday March 2\, 2022 @ 5:00pm \nCost: FREE \nAges: 4 years to 16 years \nAll Genders are welcome \n \n  \n 
URL:https://www.asquithmagpies.com.au/event/come-try-day-2022/
LOCATION:Storey Park\, 7 Lodge St\, Hornsby\, NSW\, 2077\, Australia
END:VEVENT
BEGIN:VEVENT
DTSTART;TZID=UTC:20220311T170000
DTEND;TZID=UTC:20220311T180000
DTSTAMP:20260425T055303
CREATED:20220223T095032Z
LAST-MODIFIED:20220223T095032Z
UID:5847-1647018000-1647021600@www.asquithmagpies.com.au
SUMMARY:Come & Try Day Friday March 11\, 2022
DESCRIPTION:Come & Try day \nWelcome to the Asquith Magpies 2022 Come Try Day! \nCome and meet North Sydney NSW Cup & Harvey Norman players. \nTackle & Girls League Tag \nLocation: Storey Park \nDate: Friday March 11\, 2022 @ 5:00pm \nCost: FREE \nAges: 4 years to 16 years \nFREE BBQ \nAll Genders are welcome \n \n  \n 
URL:https://www.asquithmagpies.com.au/event/come-try-day-march-2022/
LOCATION:Storey Park\, 7 Lodge St\, Hornsby\, NSW\, 2077\, Australia
END:VEVENT
END:VCALENDAR